BEGIN:VCALENDAR
VERSION:2.0
PRODID:-//schallundrauch agency - ECPv6.10.3//NONSGML v1.0//EN
CALSCALE:GREGORIAN
METHOD:PUBLISH
X-WR-CALNAME:schallundrauch agency
X-ORIGINAL-URL:https://schallundrauchagency.at
X-WR-CALDESC:Veranstaltungen für schallundrauch agency
REFRESH-INTERVAL;VALUE=DURATION:PT1H
X-Robots-Tag:noindex
X-PUBLISHED-TTL:PT1H
BEGIN:VTIMEZONE
TZID:Europe/Vienna
BEGIN:DAYLIGHT
TZOFFSETFROM:+0100
TZOFFSETTO:+0200
TZNAME:CEST
DTSTART:20250330T010000
END:DAYLIGHT
BEGIN:STANDARD
TZOFFSETFROM:+0200
TZOFFSETTO:+0100
TZNAME:CET
DTSTART:20251026T010000
END:STANDARD
END:VTIMEZONE
BEGIN:VEVENT
DTSTART;TZID=Europe/Vienna:20251205T100000
DTEND;TZID=Europe/Vienna:20251205T110000
DTSTAMP:20260422T064337
CREATED:20250712T115530Z
LAST-MODIFIED:20250712T115530Z
UID:2735-1764928800-1764932400@schallundrauchagency.at
SUMMARY:Waldrapp (4+)
DESCRIPTION:
URL:https://schallundrauchagency.at/event/waldrapp-4-40
LOCATION:Dschungel Wien\, MuseumsQuartier Wien\, Museumsplatz 1\, 1070 Wien\, Österreich
END:VEVENT
END:VCALENDAR