BEGIN:VCALENDAR
VERSION:2.0
PRODID:-//schallundrauch agency - ECPv6.10.3//NONSGML v1.0//EN
CALSCALE:GREGORIAN
METHOD:PUBLISH
X-WR-CALNAME:schallundrauch agency
X-ORIGINAL-URL:https://schallundrauchagency.at
X-WR-CALDESC:Veranstaltungen für schallundrauch agency
REFRESH-INTERVAL;VALUE=DURATION:PT1H
X-Robots-Tag:noindex
X-PUBLISHED-TTL:PT1H
BEGIN:VTIMEZONE
TZID:Europe/Vienna
BEGIN:DAYLIGHT
TZOFFSETFROM:+0100
TZOFFSETTO:+0200
TZNAME:CEST
DTSTART:20260329T010000
END:DAYLIGHT
BEGIN:STANDARD
TZOFFSETFROM:+0200
TZOFFSETTO:+0100
TZNAME:CET
DTSTART:20261025T010000
END:STANDARD
END:VTIMEZONE
BEGIN:VEVENT
DTSTART;TZID=Europe/Vienna:20260301T150000
DTEND;TZID=Europe/Vienna:20260301T160000
DTSTAMP:20260422T005942
CREATED:20250712T120717Z
LAST-MODIFIED:20250712T120717Z
UID:2765-1772377200-1772380800@schallundrauchagency.at
SUMMARY:Wir und die Welt (6+)
DESCRIPTION:
URL:https://schallundrauchagency.at/event/wir-und-die-welt-6-15
LOCATION:Dschungel Wien\, MuseumsQuartier Wien\, Museumsplatz 1\, 1070 Wien\, Österreich
END:VEVENT
END:VCALENDAR