BEGIN:VCALENDAR
VERSION:2.0
PRODID:-//schallundrauch agency - ECPv6.10.3//NONSGML v1.0//EN
CALSCALE:GREGORIAN
METHOD:PUBLISH
X-WR-CALNAME:schallundrauch agency
X-ORIGINAL-URL:https://schallundrauchagency.at
X-WR-CALDESC:Veranstaltungen für schallundrauch agency
REFRESH-INTERVAL;VALUE=DURATION:PT1H
X-Robots-Tag:noindex
X-PUBLISHED-TTL:PT1H
BEGIN:VTIMEZONE
TZID:Europe/Vienna
BEGIN:DAYLIGHT
TZOFFSETFROM:+0100
TZOFFSETTO:+0200
TZNAME:CEST
DTSTART:20260329T010000
END:DAYLIGHT
BEGIN:STANDARD
TZOFFSETFROM:+0200
TZOFFSETTO:+0100
TZNAME:CET
DTSTART:20261025T010000
END:STANDARD
END:VTIMEZONE
BEGIN:VEVENT
DTSTART;TZID=Europe/Vienna:20260522T143000
DTEND;TZID=Europe/Vienna:20260522T150000
DTSTAMP:20260421T214038
CREATED:20251110T170545Z
LAST-MODIFIED:20251219T103657Z
UID:2835-1779460200-1779462000@schallundrauchagency.at
SUMMARY:Ball\, Baum\, Taube (1\,5+)
DESCRIPTION:
URL:https://schallundrauchagency.at/event/ball-baum-taube-15-25
LOCATION:Dschungel Wien\, MuseumsQuartier Wien\, Museumsplatz 1\, 1070 Wien\, Österreich
END:VEVENT
BEGIN:VEVENT
DTSTART;TZID=Europe/Vienna:20260522T163000
DTEND;TZID=Europe/Vienna:20260522T170000
DTSTAMP:20260421T214038
CREATED:20251110T170634Z
LAST-MODIFIED:20251219T103753Z
UID:2837-1779467400-1779469200@schallundrauchagency.at
SUMMARY:Ball\, Baum\, Taube (1\,5+)
DESCRIPTION:
URL:https://schallundrauchagency.at/event/ball-baum-taube-15-26
LOCATION:Dschungel Wien\, MuseumsQuartier Wien\, Museumsplatz 1\, 1070 Wien\, Österreich
END:VEVENT
END:VCALENDAR